BEGIN:VCALENDAR
VERSION:2.0
PRODID:-//Holy Blossom Temple - ECPv6.15.20//NONSGML v1.0//EN
CALSCALE:GREGORIAN
METHOD:PUBLISH
X-WR-CALNAME:Holy Blossom Temple
X-ORIGINAL-URL:https://holyblossom.org
X-WR-CALDESC:Events for Holy Blossom Temple
REFRESH-INTERVAL;VALUE=DURATION:PT1H
X-Robots-Tag:noindex
X-PUBLISHED-TTL:PT1H
BEGIN:VTIMEZONE
TZID:America/Toronto
BEGIN:DAYLIGHT
TZOFFSETFROM:-0500
TZOFFSETTO:-0400
TZNAME:EDT
DTSTART:20250309T070000
END:DAYLIGHT
BEGIN:STANDARD
TZOFFSETFROM:-0400
TZOFFSETTO:-0500
TZNAME:EST
DTSTART:20251102T060000
END:STANDARD
BEGIN:DAYLIGHT
TZOFFSETFROM:-0500
TZOFFSETTO:-0400
TZNAME:EDT
DTSTART:20260308T070000
END:DAYLIGHT
BEGIN:STANDARD
TZOFFSETFROM:-0400
TZOFFSETTO:-0500
TZNAME:EST
DTSTART:20261101T060000
END:STANDARD
BEGIN:DAYLIGHT
TZOFFSETFROM:-0500
TZOFFSETTO:-0400
TZNAME:EDT
DTSTART:20270314T070000
END:DAYLIGHT
BEGIN:STANDARD
TZOFFSETFROM:-0400
TZOFFSETTO:-0500
TZNAME:EST
DTSTART:20271107T060000
END:STANDARD
BEGIN:DAYLIGHT
TZOFFSETFROM:-0500
TZOFFSETTO:-0400
TZNAME:EDT
DTSTART:20280312T070000
END:DAYLIGHT
BEGIN:STANDARD
TZOFFSETFROM:-0400
TZOFFSETTO:-0500
TZNAME:EST
DTSTART:20281105T060000
END:STANDARD
BEGIN:DAYLIGHT
TZOFFSETFROM:-0500
TZOFFSETTO:-0400
TZNAME:EDT
DTSTART:20290311T070000
END:DAYLIGHT
BEGIN:STANDARD
TZOFFSETFROM:-0400
TZOFFSETTO:-0500
TZNAME:EST
DTSTART:20291104T060000
END:STANDARD
BEGIN:DAYLIGHT
TZOFFSETFROM:-0500
TZOFFSETTO:-0400
TZNAME:EDT
DTSTART:20300310T070000
END:DAYLIGHT
BEGIN:STANDARD
TZOFFSETFROM:-0400
TZOFFSETTO:-0500
TZNAME:EST
DTSTART:20301103T060000
END:STANDARD
END:VTIMEZONE
BEGIN:VEVENT
DTSTART;TZID=America/Toronto:20260511T193000
DTEND;TZID=America/Toronto:20260511T220000
DTSTAMP:20260421T235212
CREATED:20260128T165202Z
LAST-MODIFIED:20260414T174018Z
UID:10019465-1778527800-1778536800@holyblossom.org
SUMMARY:North of Broadway: Celebrating 170 years of Holy Blossom Temple
DESCRIPTION:North of Broadway: Celebrating 170 years of Holy Blossom Temple\nAn evening of the Best of Broadway in support of Excellence in Education \nMonday\, May 11\, 7:30 pm (Doors) \nCue the Lights. Cue the Music. Holy Blossom Temple invites you to North of Broadway! Join us for a vibrant celebration of Broadway’s best and brightest Jewish composers\, from its beginnings to the present day. Performed by an exceptional cast of artists\, this event brings the heart\, history\, and brilliance of Broadway to our stage. \nGet ready for an unforgettable evening that pays homage to Broadway from the moment you step inside. Join us for a VIP Cocktail Reception at 6:30 pm in the Philip and Fannie Smith Congregational Hall\, where you’ll walk the red carpet and enjoy sumptuous food\, lively conversation\, and a wonderful sense of occasion. \nFrom there\, make your way to the Main Sanctuary and your reserved seat(s) for a thrilling Broadway experience.  We are excited to feature: \n\nThom Allison\, Award-winning Actor\, Singer\, & Director\nMatthew Joseph\, Singer/Songwriter & Actor\nLouise Pitre\, Tony-nominated for Mamma Mia\nPerformers from Fiddler on the Roof (in Yiddish)\nCantor Daniel Mendelson\nCantor David Rosen\nCantorial Soloist Lindi Rivers\nMaggie Lacasse\, Performer & Director\nJason Jestadt with a 10-piece ensemble and more!\n\nThe evening concludes with a light dessert and coffee\, along with a special opportunity to meet the performers. \nGet your tickets here! \nCan’t make it to the VIP reception? Not to worry! You are warmly invited to join us for the concert (general admission seating) and dessert reception. You won’t want to miss the incredible music and extraordinary talent we have lined up for this special night. \nSponsorship opportunities are available for this exciting event. To learn more\, please contact our Director of Development\, Shira Lester\, at slester@holyblossom.org \nClick here for our online donor listing!
URL:https://holyblossom.org/event/north-of-broadway-celebrating-170-years-of-holy-blossom-temple/
CATEGORIES:Centre for Arts & Culture,HBT Programs & Events
ATTACH;FMTTYPE=image/png:https://holyblossom.org/wp-content/uploads/2026/01/NorthOfBroadwayBanner.png
END:VEVENT
BEGIN:VEVENT
DTSTART;TZID=America/Toronto:20260512T103000
DTEND;TZID=America/Toronto:20260512T110000
DTSTAMP:20260421T235212
CREATED:20250115T191431Z
LAST-MODIFIED:20260225T141215Z
UID:10019482-1778581800-1778583600@holyblossom.org
SUMMARY:Good Books: What Cynthia is Reading
DESCRIPTION:Good Books: What Cynthia is Reading\, with Cynthia Good\nTuesdays\, 10:30 am via Zoom \nCynthia Good has been a leader in the publishing industry for many years. Join her every second week to hear about the latest great novels she’s discovering\, the development of contemporary genres\, and old favourites. There’s time at the end for you to add your reading suggestions. Free and open to all. \nJoin Zoom Meeting\nhttps://us06web.zoom.us/j/91442171255?pwd=VWZ3b01URXRCUWhGdmdGa3BxUW10QT09 \nMeeting ID: 914 4217 1255\nPasscode: Good \nMeeting ID: 914 4217 1255\nPasscode: 566020\nFind your local number: https://us06web.zoom.us/u/kca9lTDLGf
URL:https://holyblossom.org/event/good-books-what-cynthia-is-reading-with-cynthia-good/2026-05-12/
CATEGORIES:Centre for Arts & Culture,HBT Programs & Events
ATTACH;FMTTYPE=image/jpeg:https://holyblossom.org/wp-content/uploads/2024/07/tom-hermans-9BoqXzEeQqM-unsplash.jpg
END:VEVENT
BEGIN:VEVENT
DTSTART;TZID=America/Toronto:20260519T103000
DTEND;TZID=America/Toronto:20260519T110000
DTSTAMP:20260421T235212
CREATED:20251111T185926Z
LAST-MODIFIED:20260225T141120Z
UID:10019323-1779186600-1779188400@holyblossom.org
SUMMARY:Film Talks: What I’m watching and why….
DESCRIPTION:Film Talks: What I’m watching and why….\nMonthly\, Tuesdays\, 10:30 am via Zoom \nWe’re living in a Golden Age of television\, film\, and webisodes on the internet\, and film professor Gillian Helfield is our intrepid guide through all of it – some speculative\, some realistic and some purely escapist! Join her for a 20-minute check-in to discover what she’s watching now and why. At the end\, there’s time for you to add your viewing suggestions. \n  \nJoin Zoom Meeting\nhttps://us02web.zoom.us/j/940094258?pwd=ZlRzSkdMRTRUSzI5U005b3MxM2FGdz09 \nMeeting ID: 940 094 258\nPasscode: 125479 \nFind your local number: https://us02web.zoom.us/u/kdxyogfee9
URL:https://holyblossom.org/event/film-talks-what-im-watching-and-why-3/2026-05-19/
CATEGORIES:Centre for Arts & Culture,HBT Programs & Events
ATTACH;FMTTYPE=image/png:https://holyblossom.org/wp-content/uploads/2024/07/FIlmTalk2024.png
END:VEVENT
BEGIN:VEVENT
DTSTART;TZID=America/Toronto:20260526T103000
DTEND;TZID=America/Toronto:20260526T110000
DTSTAMP:20260421T235212
CREATED:20250115T191431Z
LAST-MODIFIED:20260225T141215Z
UID:10019483-1779791400-1779793200@holyblossom.org
SUMMARY:Good Books: What Cynthia is Reading
DESCRIPTION:Good Books: What Cynthia is Reading\, with Cynthia Good\nTuesdays\, 10:30 am via Zoom \nCynthia Good has been a leader in the publishing industry for many years. Join her every second week to hear about the latest great novels she’s discovering\, the development of contemporary genres\, and old favourites. There’s time at the end for you to add your reading suggestions. Free and open to all. \nJoin Zoom Meeting\nhttps://us06web.zoom.us/j/91442171255?pwd=VWZ3b01URXRCUWhGdmdGa3BxUW10QT09 \nMeeting ID: 914 4217 1255\nPasscode: Good \nMeeting ID: 914 4217 1255\nPasscode: 566020\nFind your local number: https://us06web.zoom.us/u/kca9lTDLGf
URL:https://holyblossom.org/event/good-books-what-cynthia-is-reading-with-cynthia-good/2026-05-26/
CATEGORIES:Centre for Arts & Culture,HBT Programs & Events
ATTACH;FMTTYPE=image/jpeg:https://holyblossom.org/wp-content/uploads/2024/07/tom-hermans-9BoqXzEeQqM-unsplash.jpg
END:VEVENT
BEGIN:VEVENT
DTSTART;TZID=America/Toronto:20260601T193000
DTEND;TZID=America/Toronto:20260601T223000
DTSTAMP:20260421T235212
CREATED:20260210T182444Z
LAST-MODIFIED:20260225T235253Z
UID:10019496-1780342200-1780353000@holyblossom.org
SUMMARY:Holy Blossom goes to the Theatre: Fiddler on the Roof in Yiddish
DESCRIPTION:Holy Blossom goes to the Theatre: Fiddler on the Roof in Yiddish\nMonday\, June 1\, 7:30 pm \nHere is an incredible opportunity to see the Drama Desk Award-winning production of one of the greatest musicals ever written with your Holy Blossom Temple Community. \nYou don’t want to miss this production of Fiddler on the Roof in Yiddish with English supertitles. Laugh\, cry\, and feel the love at this powerful and universal testament to the strength and resilience of the Jewish community. \nHoly Blossom Temple has secured a limited number of tickets (100) for Monday\, June 1st\, in the orchestra section at a group rate.\nTickets will be assigned on a first-come\, first-served basis and distributed via email. \nGet your tickets here! \nMember price: $105/person. \nIf you wish to sit together with another couple/group\, purchase your tickets in one registration.
URL:https://holyblossom.org/event/holy-blossom-goes-to-the-theatre-fiddler-on-the-roof-in-yiddish/
CATEGORIES:Centre for Arts & Culture,HBT Programs & Events
ATTACH;FMTTYPE=image/png:https://holyblossom.org/wp-content/uploads/2026/02/FiddlerHBT.png
END:VEVENT
BEGIN:VEVENT
DTSTART;TZID=America/Toronto:20260609T103000
DTEND;TZID=America/Toronto:20260609T110000
DTSTAMP:20260421T235212
CREATED:20250115T191431Z
LAST-MODIFIED:20260225T141215Z
UID:10019484-1781001000-1781002800@holyblossom.org
SUMMARY:Good Books: What Cynthia is Reading
DESCRIPTION:Good Books: What Cynthia is Reading\, with Cynthia Good\nTuesdays\, 10:30 am via Zoom \nCynthia Good has been a leader in the publishing industry for many years. Join her every second week to hear about the latest great novels she’s discovering\, the development of contemporary genres\, and old favourites. There’s time at the end for you to add your reading suggestions. Free and open to all. \nJoin Zoom Meeting\nhttps://us06web.zoom.us/j/91442171255?pwd=VWZ3b01URXRCUWhGdmdGa3BxUW10QT09 \nMeeting ID: 914 4217 1255\nPasscode: Good \nMeeting ID: 914 4217 1255\nPasscode: 566020\nFind your local number: https://us06web.zoom.us/u/kca9lTDLGf
URL:https://holyblossom.org/event/good-books-what-cynthia-is-reading-with-cynthia-good/2026-06-09/
CATEGORIES:Centre for Arts & Culture,HBT Programs & Events
ATTACH;FMTTYPE=image/jpeg:https://holyblossom.org/wp-content/uploads/2024/07/tom-hermans-9BoqXzEeQqM-unsplash.jpg
END:VEVENT
BEGIN:VEVENT
DTSTART;TZID=America/Toronto:20260623T103000
DTEND;TZID=America/Toronto:20260623T110000
DTSTAMP:20260421T235212
CREATED:20250115T191431Z
LAST-MODIFIED:20260225T141215Z
UID:10019485-1782210600-1782212400@holyblossom.org
SUMMARY:Good Books: What Cynthia is Reading
DESCRIPTION:Good Books: What Cynthia is Reading\, with Cynthia Good\nTuesdays\, 10:30 am via Zoom \nCynthia Good has been a leader in the publishing industry for many years. Join her every second week to hear about the latest great novels she’s discovering\, the development of contemporary genres\, and old favourites. There’s time at the end for you to add your reading suggestions. Free and open to all. \nJoin Zoom Meeting\nhttps://us06web.zoom.us/j/91442171255?pwd=VWZ3b01URXRCUWhGdmdGa3BxUW10QT09 \nMeeting ID: 914 4217 1255\nPasscode: Good \nMeeting ID: 914 4217 1255\nPasscode: 566020\nFind your local number: https://us06web.zoom.us/u/kca9lTDLGf
URL:https://holyblossom.org/event/good-books-what-cynthia-is-reading-with-cynthia-good/2026-06-23/
CATEGORIES:Centre for Arts & Culture,HBT Programs & Events
ATTACH;FMTTYPE=image/jpeg:https://holyblossom.org/wp-content/uploads/2024/07/tom-hermans-9BoqXzEeQqM-unsplash.jpg
END:VEVENT
BEGIN:VEVENT
DTSTART;TZID=America/Toronto:20290804T103000
DTEND;TZID=America/Toronto:20290804T110000
DTSTAMP:20260421T235212
CREATED:20250115T191431Z
LAST-MODIFIED:20260225T141215Z
UID:10019488-1880533800-1880535600@holyblossom.org
SUMMARY:Good Books: What Cynthia is Reading
DESCRIPTION:Good Books: What Cynthia is Reading\, with Cynthia Good\nTuesdays\, 10:30 am via Zoom \nCynthia Good has been a leader in the publishing industry for many years. Join her every second week to hear about the latest great novels she’s discovering\, the development of contemporary genres\, and old favourites. There’s time at the end for you to add your reading suggestions. Free and open to all. \nJoin Zoom Meeting\nhttps://us06web.zoom.us/j/91442171255?pwd=VWZ3b01URXRCUWhGdmdGa3BxUW10QT09 \nMeeting ID: 914 4217 1255\nPasscode: Good \nMeeting ID: 914 4217 1255\nPasscode: 566020\nFind your local number: https://us06web.zoom.us/u/kca9lTDLGf
URL:https://holyblossom.org/event/good-books-what-cynthia-is-reading-with-cynthia-good/2029-08-04/
CATEGORIES:Centre for Arts & Culture,HBT Programs & Events
ATTACH;FMTTYPE=image/jpeg:https://holyblossom.org/wp-content/uploads/2024/07/tom-hermans-9BoqXzEeQqM-unsplash.jpg
END:VEVENT
END:VCALENDAR