BEGIN:VCALENDAR
VERSION:2.0
PRODID:-//Holy Blossom Temple - ECPv6.15.20//NONSGML v1.0//EN
CALSCALE:GREGORIAN
METHOD:PUBLISH
X-WR-CALNAME:Holy Blossom Temple
X-ORIGINAL-URL:https://holyblossom.org
X-WR-CALDESC:Events for Holy Blossom Temple
REFRESH-INTERVAL;VALUE=DURATION:PT1H
X-Robots-Tag:noindex
X-PUBLISHED-TTL:PT1H
BEGIN:VTIMEZONE
TZID:America/Toronto
BEGIN:DAYLIGHT
TZOFFSETFROM:-0500
TZOFFSETTO:-0400
TZNAME:EDT
DTSTART:20240310T070000
END:DAYLIGHT
BEGIN:STANDARD
TZOFFSETFROM:-0400
TZOFFSETTO:-0500
TZNAME:EST
DTSTART:20241103T060000
END:STANDARD
BEGIN:DAYLIGHT
TZOFFSETFROM:-0500
TZOFFSETTO:-0400
TZNAME:EDT
DTSTART:20250309T070000
END:DAYLIGHT
BEGIN:STANDARD
TZOFFSETFROM:-0400
TZOFFSETTO:-0500
TZNAME:EST
DTSTART:20251102T060000
END:STANDARD
BEGIN:DAYLIGHT
TZOFFSETFROM:-0500
TZOFFSETTO:-0400
TZNAME:EDT
DTSTART:20260308T070000
END:DAYLIGHT
BEGIN:STANDARD
TZOFFSETFROM:-0400
TZOFFSETTO:-0500
TZNAME:EST
DTSTART:20261101T060000
END:STANDARD
END:VTIMEZONE
BEGIN:VEVENT
DTSTART;TZID=America/Toronto:20251016T103000
DTEND;TZID=America/Toronto:20251016T113000
DTSTAMP:20260421T182839
CREATED:20250715T190818Z
LAST-MODIFIED:20251006T133707Z
UID:10018816-1760610600-1760614200@holyblossom.org
SUMMARY:Contemporary Jewish Fiction
DESCRIPTION:Contemporary Jewish Fiction\nWith Cynthia Good \nThursdays\, 10:30 am (hybrid) \nWe look forward to in-person (and online) learning and the opportunity for in-depth study. Join us this fall for our usual lively discussion around two novels with profound explorations of family and moral values by two Israeli women writers. \n  \nRegister here \n  \nThe Wolf Hunt by Ayelet Gundar-Goshen \nAward-winning author Ayelet Gundar-Goshen returns with a timely and suspenseful exploration of the fault lines in a community\, a school and a family\, as a mother begins to suspect her teenage son of committing a terrible crime. \n“A novel of ideas\, a thriller and a character study’ OBSERVER \n‘Ensnares her characters in heart-stopping moral dilemmas’ MAIL ON SUNDAY \nOn Her Own by Lihi Lapid \nSet between the eve of Passover and Israel’s Independence Day\, On Her Own is a tense and immersive psychological read about two families looking for redemption and the transformative bonds between strangers. When Nina\, a teenage runaway\, is found by Carmela\, a lonely old widow suffering from memory loss\, she mistakes Nina for the granddaughter she hasn’t seen in years. Meanwhile\, Nina’s mother is in agony as she worries over her daughter’s disappearance. \n“The plot of On Her Own is propulsive. . . . From start to finish\, it is an engaging\, illuminating story of family and injury. It examines grief\, the fallacies of wishful thinking\, and persistent hope in a way that many readers will find memorable.” — Jewish Book Council
URL:https://holyblossom.org/event/contemporary-jewish-fiction/2025-10-16/
CATEGORIES:HBT Programs & Events
ATTACH;FMTTYPE=image/png:https://holyblossom.org/wp-content/uploads/2025/07/ContemporaryFiction_2025.png
END:VEVENT
END:VCALENDAR