BEGIN:VCALENDAR
VERSION:2.0
PRODID:-//Holy Blossom Temple - ECPv6.15.20//NONSGML v1.0//EN
CALSCALE:GREGORIAN
METHOD:PUBLISH
X-ORIGINAL-URL:https://holyblossom.org
X-WR-CALDESC:Events for Holy Blossom Temple
REFRESH-INTERVAL;VALUE=DURATION:PT1H
X-Robots-Tag:noindex
X-PUBLISHED-TTL:PT1H
BEGIN:VTIMEZONE
TZID:America/Toronto
BEGIN:DAYLIGHT
TZOFFSETFROM:-0500
TZOFFSETTO:-0400
TZNAME:EDT
DTSTART:20240310T070000
END:DAYLIGHT
BEGIN:STANDARD
TZOFFSETFROM:-0400
TZOFFSETTO:-0500
TZNAME:EST
DTSTART:20241103T060000
END:STANDARD
BEGIN:DAYLIGHT
TZOFFSETFROM:-0500
TZOFFSETTO:-0400
TZNAME:EDT
DTSTART:20250309T070000
END:DAYLIGHT
BEGIN:STANDARD
TZOFFSETFROM:-0400
TZOFFSETTO:-0500
TZNAME:EST
DTSTART:20251102T060000
END:STANDARD
BEGIN:DAYLIGHT
TZOFFSETFROM:-0500
TZOFFSETTO:-0400
TZNAME:EDT
DTSTART:20260308T070000
END:DAYLIGHT
BEGIN:STANDARD
TZOFFSETFROM:-0400
TZOFFSETTO:-0500
TZNAME:EST
DTSTART:20261101T060000
END:STANDARD
END:VTIMEZONE
BEGIN:VEVENT
DTSTART;TZID=America/Toronto:20251014T100000
DTEND;TZID=America/Toronto:20251014T123000
DTSTAMP:20260421T182937
CREATED:20250908T194424Z
LAST-MODIFIED:20250908T194424Z
UID:10019120-1760436000-1760445000@holyblossom.org
SUMMARY:Shemini Atzeret Yom Tov and Yizkor/Memorial Services
DESCRIPTION:Shemini Atzeret Yom Tov and Yizkor/Memorial Services\nTuesday\, October 14\, 10:00 am  \nShmini Atzeret marks the final moments of our High Holiday season and transitions us into the joy of Simchat Torah. Join us for Yom Tov either online or in-person for this powerful service and Yizkor. This is one of the three Yizkor Services held during the Jewish calendar year. We will remember all those who have died in years past\, as well as those who have died since Yom Kippur\, as we pray together in the sanctuary\, and will dedicate new Yahrtzeit tablets. All are welcome for Kiddush lunch following the service. \nTo join us online\, please visit our livestream Page 
URL:https://holyblossom.org/event/shemini-atzeret-yom-tov-and-yizkor-memorial-services/
CATEGORIES:HBT Programs & Events
ATTACH;FMTTYPE=image/jpeg:https://holyblossom.org/wp-content/uploads/2024/07/Shemini_Simchat.jpg
END:VEVENT
BEGIN:VEVENT
DTSTART;TZID=America/Toronto:20251014T110000
DTEND;TZID=America/Toronto:20251014T123000
DTSTAMP:20260421T182937
CREATED:20250908T192158Z
LAST-MODIFIED:20250930T163018Z
UID:10019138-1760439600-1760445000@holyblossom.org
SUMMARY:Chaggim Holy-Day Fun for Families!
DESCRIPTION:Chaggim Holy-Day Fun for Families!\nTuesday\, October 7 & Tuesday\, October 14\, During Torah Service (11:15 am-12:15 pm approx.) \nBring the whole family to our Yom Tov services for Sukkot and Shemini Atzeret starting at 10:00 am\, and have your children experience our fun and engaging breakout activities! \nOur youngest Blossoms (0-3 years old) will enjoy festival-inspired creative programming\, music and stories. Little Blossoms (0-5 years old) must bring their grown-up.\nOur older children (0-11) will have the opportunity to participate with our friends from L’Dance camp\, registration required. \nChildren and families who participate in breakout rooms will rejoin the service in the Main Sanctuary for the conclusion and kiddush lunch afterwards. \nWe are excited to see our young friends of all ages mark the Yom Tov together with our congregation. \nRegister here
URL:https://holyblossom.org/event/chaggim-holy-day-fun-for-families/2025-10-14/
CATEGORIES:HBT Programs & Events
ATTACH;FMTTYPE=image/png:https://holyblossom.org/wp-content/uploads/2025/09/LDance-HB-Chag-Camps-Oct-2025.png
END:VEVENT
BEGIN:VEVENT
DTSTART;TZID=America/Toronto:20251014T123000
DTEND;TZID=America/Toronto:20251014T133000
DTSTAMP:20260421T182937
CREATED:20250116T203204Z
LAST-MODIFIED:20260407T155440Z
UID:10018466-1760445000-1760448600@holyblossom.org
SUMMARY:Dorot Games
DESCRIPTION:Dorot Games\nTuesdays\, 12:30 pm\nSchwartz/Reisman Atrium \nDorot programming is generously sponsored by Carole and Jay Sterling and Family \nWe invite everyone to come to play your favourite games: Chess\, Mahjong\, Canasta\, Rummycube\, Dominos\, Scrabble and social bridge.
URL:https://holyblossom.org/event/dorot-games/2025-10-14/
CATEGORIES:HBT Programs & Events
ATTACH;FMTTYPE=image/png:https://holyblossom.org/wp-content/uploads/2025/01/DorotGames_resize.png
END:VEVENT
BEGIN:VEVENT
DTSTART;TZID=America/Toronto:20251014T171500
DTEND;TZID=America/Toronto:20251014T181500
DTSTAMP:20260421T182937
CREATED:20250806T181348Z
LAST-MODIFIED:20250930T162326Z
UID:10018873-1760462100-1760465700@holyblossom.org
SUMMARY:Consecration 5786/2025!
DESCRIPTION:Consecration 5786/2025!\nTuesday\, October 14\, 5:15 pm \n  \nThis special life-cycle event marks the beginning of formal Jewish Education for all our Grade 1 students (whether they are part of YEC or otherwise). Students will receive their very own mini-Torah to treasure and receive meaningful blessings from their families and clergy. They are also welcome to participate in our Simchat Torah celebrations\, including flag-making\, music\, dancing\, and general Jewish joy as we begin reading the sacred texts of our People once more. Consecrands and their families are extended the honour of the first hakafah (procession/dance) with the Torah during our Simchat Torah celebrations. \nFamilies are additionally encouraged to join us for the Consecration pre-program on Sunday\, September 28\, at 10:15 am\, to learn more about the Torah and what it means to become Consecrated\, as well as create a special Aron HaKodesh box for their new mini Torah scrolls. \nRegister here! \nTo cover materials\, the cost is $36.
URL:https://holyblossom.org/event/consecration-5786-2025/
CATEGORIES:HBT Programs & Events
ATTACH;FMTTYPE=image/jpeg:https://holyblossom.org/wp-content/uploads/2024/09/HBTConsecration.jpg
END:VEVENT
BEGIN:VEVENT
DTSTART;TZID=America/Toronto:20251014T181500
DTEND;TZID=America/Toronto:20251014T190000
DTSTAMP:20260421T182937
CREATED:20250908T194745Z
LAST-MODIFIED:20250930T162335Z
UID:10019121-1760465700-1760468400@holyblossom.org
SUMMARY:Simchat Torah Flag Decorating
DESCRIPTION:Simchat Torah Flag Decorating\nTuesday\, October 14\, 6:30 pm   \nAll ages are welcome to create and decorate flags to carry with our Torahs! On Simchat Torah\, we express our joy through dance\, carrying our Torahs through the congregation\, and with special hakafot. Come engage in the mitzvah of hiddur mitzvah\, beautifying the mitzvah\, and make something sensational to wave!  \nRegistration coming soon!
URL:https://holyblossom.org/event/simchat-torah-flag-decorating/
CATEGORIES:HBT Programs & Events
ATTACH;FMTTYPE=image/jpeg:https://holyblossom.org/wp-content/uploads/2024/09/flag5.jpg
END:VEVENT
BEGIN:VEVENT
DTSTART;TZID=America/Toronto:20251014T190000
DTEND;TZID=America/Toronto:20251014T213000
DTSTAMP:20260421T182937
CREATED:20250908T195250Z
LAST-MODIFIED:20250908T195250Z
UID:10019122-1760468400-1760477400@holyblossom.org
SUMMARY:Simchat Torah
DESCRIPTION:Simchat Torah\nTuesday\, October 14\, 7:00 pm  \nSimchat Torah celebrates the moment when our ancestors received the greatest possible gift from God\, the Torah! Come and celebrate Matan Torah with sweetness\, dancing\, and joy. Let us finish welcoming in our new year with a smile\, a song\, 7 happy hakafot\, and plenty of ruach!  \nWe will have a joyful ceremony in our sanctuary\, with the assistance of our HABSTY teens\, followed by dancing and a live Klezmer band in the atrium!   \nCome wave a flag\, carry a Torah\, make meaningful memories\, and dance again! Am Yisrael Chai!  \n  \nClick here for the service pages \nClick here to join us via the livestream 
URL:https://holyblossom.org/event/simchat-torah/
CATEGORIES:HBT Programs & Events
ATTACH;FMTTYPE=image/jpeg:https://holyblossom.org/wp-content/uploads/2024/07/Shemini_Simchat.jpg
END:VEVENT
END:VCALENDAR