BEGIN:VCALENDAR
VERSION:2.0
PRODID:-//Holy Blossom Temple - ECPv6.15.20//NONSGML v1.0//EN
CALSCALE:GREGORIAN
METHOD:PUBLISH
X-ORIGINAL-URL:https://holyblossom.org
X-WR-CALDESC:Events for Holy Blossom Temple
REFRESH-INTERVAL;VALUE=DURATION:PT1H
X-Robots-Tag:noindex
X-PUBLISHED-TTL:PT1H
BEGIN:VTIMEZONE
TZID:America/Toronto
BEGIN:DAYLIGHT
TZOFFSETFROM:-0500
TZOFFSETTO:-0400
TZNAME:EDT
DTSTART:20240310T070000
END:DAYLIGHT
BEGIN:STANDARD
TZOFFSETFROM:-0400
TZOFFSETTO:-0500
TZNAME:EST
DTSTART:20241103T060000
END:STANDARD
BEGIN:DAYLIGHT
TZOFFSETFROM:-0500
TZOFFSETTO:-0400
TZNAME:EDT
DTSTART:20250309T070000
END:DAYLIGHT
BEGIN:STANDARD
TZOFFSETFROM:-0400
TZOFFSETTO:-0500
TZNAME:EST
DTSTART:20251102T060000
END:STANDARD
BEGIN:DAYLIGHT
TZOFFSETFROM:-0500
TZOFFSETTO:-0400
TZNAME:EDT
DTSTART:20260308T070000
END:DAYLIGHT
BEGIN:STANDARD
TZOFFSETFROM:-0400
TZOFFSETTO:-0500
TZNAME:EST
DTSTART:20261101T060000
END:STANDARD
END:VTIMEZONE
BEGIN:VEVENT
DTSTART;TZID=America/Toronto:20251013T180000
DTEND;TZID=America/Toronto:20251013T190000
DTSTAMP:20260423T041940
CREATED:20250908T194104Z
LAST-MODIFIED:20250908T194104Z
UID:10019119-1760378400-1760382000@holyblossom.org
SUMMARY:Erev Shemini Atzeret
DESCRIPTION:Erev Shemini Atzeret\nMonday\, October 13\, 6:00 pm \nShmini Atzeret means the assembly of the 8th Day. Let’s join together in a sacred assembly for this meaningful\, clergy-led service. \n  \nThe services are held in person in the Herman Chapel and on Zoom.\nFor those joining us online\, please Register Here to receive our Mincha/Ma’ariv service links
URL:https://holyblossom.org/event/erev-shemini-atzeret/
CATEGORIES:HBT Programs & Events
ATTACH;FMTTYPE=image/jpeg:https://holyblossom.org/wp-content/uploads/2024/07/Shemini_Simchat.jpg
END:VEVENT
END:VCALENDAR