BEGIN:VCALENDAR
VERSION:2.0
PRODID:-//Holy Blossom Temple - ECPv6.15.20//NONSGML v1.0//EN
CALSCALE:GREGORIAN
METHOD:PUBLISH
X-ORIGINAL-URL:https://holyblossom.org
X-WR-CALDESC:Events for Holy Blossom Temple
REFRESH-INTERVAL;VALUE=DURATION:PT1H
X-Robots-Tag:noindex
X-PUBLISHED-TTL:PT1H
BEGIN:VTIMEZONE
TZID:America/Toronto
BEGIN:DAYLIGHT
TZOFFSETFROM:-0500
TZOFFSETTO:-0400
TZNAME:EDT
DTSTART:20240310T070000
END:DAYLIGHT
BEGIN:STANDARD
TZOFFSETFROM:-0400
TZOFFSETTO:-0500
TZNAME:EST
DTSTART:20241103T060000
END:STANDARD
BEGIN:DAYLIGHT
TZOFFSETFROM:-0500
TZOFFSETTO:-0400
TZNAME:EDT
DTSTART:20250309T070000
END:DAYLIGHT
BEGIN:STANDARD
TZOFFSETFROM:-0400
TZOFFSETTO:-0500
TZNAME:EST
DTSTART:20251102T060000
END:STANDARD
BEGIN:DAYLIGHT
TZOFFSETFROM:-0500
TZOFFSETTO:-0400
TZNAME:EDT
DTSTART:20260308T070000
END:DAYLIGHT
BEGIN:STANDARD
TZOFFSETFROM:-0400
TZOFFSETTO:-0500
TZNAME:EST
DTSTART:20261101T060000
END:STANDARD
END:VTIMEZONE
BEGIN:VEVENT
DTSTART;TZID=America/Toronto:20251010T080000
DTEND;TZID=America/Toronto:20251010T090000
DTSTAMP:20260421T182928
CREATED:20250929T212010Z
LAST-MODIFIED:20250930T202541Z
UID:10019135-1760083200-1760086800@holyblossom.org
SUMMARY:Advocacy Training Day
DESCRIPTION:Advocacy Training Day\nFriday\, October 10\, 8:00 am \n  \nOur Advocacy Committee has been hard at work arranging meetings with City Councillors to discuss ways that they can further combat antisemitism in Toronto and make Toronto Jews feel safe again\, as we live our lives as long-standing\, contributing and integral members of the broader Toronto community. \nTo be eligible to participate in these upcoming meetings with City Councillors—the first of which will be held on Thursday\, October 16—it is mandatory to attend a one-hour training session led by our friends at CIJA on Friday\, October 10\, at 8:00 a.m.\, either in person at Holy Blossom or virtually. \nPlease hold October 16th in your calendar and RSVP below. \n \n\n\n\n\n\n\n\n\nPlease let us know how many people from your household\, including yourself\, are attending to assist with planning. Thank you! \nPlease select…12345678910\n\n\n\n\n  \nTo receive the Zoom link to attend our training virtually\, please email Rabbinic Assistant Joe Freedberg at jfreedberg@holyblossom.org. \nEveryone is welcome to attend this training with CIJA. Please be aware that meetings with City Councillors will be limited to a handful of volunteers.
URL:https://holyblossom.org/event/advocacy-training-day/
CATEGORIES:HBT Programs & Events
ATTACH;FMTTYPE=image/png:https://holyblossom.org/wp-content/uploads/2025/09/AdvocacyDay.png
END:VEVENT
BEGIN:VEVENT
DTSTART;TZID=America/Toronto:20251010T100000
DTEND;TZID=America/Toronto:20251010T120000
DTSTAMP:20260421T182928
CREATED:20250715T183757Z
LAST-MODIFIED:20250922T114857Z
UID:10018798-1760090400-1760097600@holyblossom.org
SUMMARY:Little Blossoms with Marky Weinstock
DESCRIPTION:Little Blossoms with Marky Weinstock\n3 times available: 10:00 am\, 11:00 am\, and 12:00 pm (FULL)\n10 Weeks: Sept 12\, 19\, Oct 3\, 17\, 24\, 31\, Nov 14\, 21\, 28 and Dec 5 \n0 – 5 years of age \n  \nRegister here! \n  \nJoin us on Friday mornings for Shabbat music\, stories\, and more. Dr. Marky (MD\, MEd) is an award-winning entertainer and respected educator with over 20 years of experience running Shabbat programs that inspire and help stimulate your child’s motor and language development. Welcome\, Shabbat with a smile and song in your heart!
URL:https://holyblossom.org/event/little-blossoms-with-marky-weinstock-3/2025-10-10/
CATEGORIES:HBT Programs & Events
ATTACH;FMTTYPE=image/png:https://holyblossom.org/wp-content/uploads/2023/11/LittleBlossoms2024.png
END:VEVENT
END:VCALENDAR