BEGIN:VCALENDAR
VERSION:2.0
PRODID:-//Holy Blossom Temple - ECPv6.15.20//NONSGML v1.0//EN
CALSCALE:GREGORIAN
METHOD:PUBLISH
X-WR-CALNAME:Holy Blossom Temple
X-ORIGINAL-URL:https://holyblossom.org
X-WR-CALDESC:Events for Holy Blossom Temple
REFRESH-INTERVAL;VALUE=DURATION:PT1H
X-Robots-Tag:noindex
X-PUBLISHED-TTL:PT1H
BEGIN:VTIMEZONE
TZID:America/Toronto
BEGIN:DAYLIGHT
TZOFFSETFROM:-0500
TZOFFSETTO:-0400
TZNAME:EDT
DTSTART:20240310T070000
END:DAYLIGHT
BEGIN:STANDARD
TZOFFSETFROM:-0400
TZOFFSETTO:-0500
TZNAME:EST
DTSTART:20241103T060000
END:STANDARD
BEGIN:DAYLIGHT
TZOFFSETFROM:-0500
TZOFFSETTO:-0400
TZNAME:EDT
DTSTART:20250309T070000
END:DAYLIGHT
BEGIN:STANDARD
TZOFFSETFROM:-0400
TZOFFSETTO:-0500
TZNAME:EST
DTSTART:20251102T060000
END:STANDARD
BEGIN:DAYLIGHT
TZOFFSETFROM:-0500
TZOFFSETTO:-0400
TZNAME:EDT
DTSTART:20260308T070000
END:DAYLIGHT
BEGIN:STANDARD
TZOFFSETFROM:-0400
TZOFFSETTO:-0500
TZNAME:EST
DTSTART:20261101T060000
END:STANDARD
END:VTIMEZONE
BEGIN:VEVENT
DTSTART;TZID=America/Toronto:20251007T100000
DTEND;TZID=America/Toronto:20251007T123000
DTSTAMP:20260423T042708
CREATED:20250908T191835Z
LAST-MODIFIED:20250908T193004Z
UID:10019116-1759831200-1759840200@holyblossom.org
SUMMARY:Sukkot Morning Service
DESCRIPTION:Sukkot Morning Service\nTuesday\, October 7\, 10:00 am   \nThe rituals and songs of Hallel will help us to both commemorate the 2nd Anniversary of October 7\, 2023 and also defiantly rejoice on this holyday. Bring your lulav and etrog. There will be special programming for children. We will conclude our service over wine and challah in our Holy Blossom Sukkah. \nBYOLE (Bring your own Lulav and Etrog). You can order a Lulav and Etrog with us\, until September 18th HERE.  \nTo join us online\, please visit our livestream Page 
URL:https://holyblossom.org/event/sukkot-morning-service/
CATEGORIES:HBT Programs & Events
ATTACH;FMTTYPE=image/jpeg:https://holyblossom.org/wp-content/uploads/2024/07/Sukkot-800x321-1.jpeg
END:VEVENT
BEGIN:VEVENT
DTSTART;TZID=America/Toronto:20251007T110000
DTEND;TZID=America/Toronto:20251007T123000
DTSTAMP:20260423T042708
CREATED:20250908T192158Z
LAST-MODIFIED:20250930T163018Z
UID:10019139-1759834800-1759840200@holyblossom.org
SUMMARY:Chaggim Holy-Day Fun for Families!
DESCRIPTION:Chaggim Holy-Day Fun for Families!\nTuesday\, October 7 & Tuesday\, October 14\, During Torah Service (11:15 am-12:15 pm approx.) \nBring the whole family to our Yom Tov services for Sukkot and Shemini Atzeret starting at 10:00 am\, and have your children experience our fun and engaging breakout activities! \nOur youngest Blossoms (0-3 years old) will enjoy festival-inspired creative programming\, music and stories. Little Blossoms (0-5 years old) must bring their grown-up.\nOur older children (0-11) will have the opportunity to participate with our friends from L’Dance camp\, registration required. \nChildren and families who participate in breakout rooms will rejoin the service in the Main Sanctuary for the conclusion and kiddush lunch afterwards. \nWe are excited to see our young friends of all ages mark the Yom Tov together with our congregation. \nRegister here
URL:https://holyblossom.org/event/chaggim-holy-day-fun-for-families/2025-10-07/
CATEGORIES:HBT Programs & Events
ATTACH;FMTTYPE=image/png:https://holyblossom.org/wp-content/uploads/2025/09/LDance-HB-Chag-Camps-Oct-2025.png
END:VEVENT
BEGIN:VEVENT
DTSTART;TZID=America/Toronto:20251007T123000
DTEND;TZID=America/Toronto:20251007T133000
DTSTAMP:20260423T042708
CREATED:20250116T203204Z
LAST-MODIFIED:20260407T155440Z
UID:10018465-1759840200-1759843800@holyblossom.org
SUMMARY:Dorot Games
DESCRIPTION:Dorot Games\nTuesdays\, 12:30 pm\nSchwartz/Reisman Atrium \nDorot programming is generously sponsored by Carole and Jay Sterling and Family \nWe invite everyone to come to play your favourite games: Chess\, Mahjong\, Canasta\, Rummycube\, Dominos\, Scrabble and social bridge.
URL:https://holyblossom.org/event/dorot-games/2025-10-07/
CATEGORIES:HBT Programs & Events
ATTACH;FMTTYPE=image/png:https://holyblossom.org/wp-content/uploads/2025/01/DorotGames_resize.png
END:VEVENT
BEGIN:VEVENT
DTSTART;TZID=America/Toronto:20251007T183000
DTEND;TZID=America/Toronto:20251007T193000
DTSTAMP:20260423T042708
CREATED:20250829T131139Z
LAST-MODIFIED:20250930T162513Z
UID:10019033-1759861800-1759865400@holyblossom.org
SUMMARY:Bereavement Discussion Group
DESCRIPTION:Bereavement Discussion Group\nImmediately following our 6:00 pm evening service (via Zoom here)\, Jack Kugelmass\, MSW\, will provide a supportive environment to find new insight into the meaning of their losses. \nWhether a loved one died recently or long ago\, we hope you will take comfort in this opportunity to find meaning and motivation in memory. \nYou are welcome to “drop-in” occasionally or attend regularly. \nJoin Zoom Meeting\nhttps://us02web.zoom.us/j/917009371?pwd=T1dDMnd6bUMxUU1FaU1NaHFkVXRWQT09 \nMeeting ID: 917 009 371\nPasscode: 047218 \nFind your local number: https://us02web.zoom.us/u/kgbrqKX9x
URL:https://holyblossom.org/event/bereavement-discussion-group-3/2025-10-07/
CATEGORIES:HBT Programs & Events
ATTACH;FMTTYPE=image/png:https://holyblossom.org/wp-content/uploads/2024/01/comforting-hands.png
END:VEVENT
END:VCALENDAR