BEGIN:VCALENDAR
VERSION:2.0
PRODID:-//Holy Blossom Temple - ECPv6.15.20//NONSGML v1.0//EN
CALSCALE:GREGORIAN
METHOD:PUBLISH
X-ORIGINAL-URL:https://holyblossom.org
X-WR-CALDESC:Events for Holy Blossom Temple
REFRESH-INTERVAL;VALUE=DURATION:PT1H
X-Robots-Tag:noindex
X-PUBLISHED-TTL:PT1H
BEGIN:VTIMEZONE
TZID:America/Toronto
BEGIN:DAYLIGHT
TZOFFSETFROM:-0500
TZOFFSETTO:-0400
TZNAME:EDT
DTSTART:20240310T070000
END:DAYLIGHT
BEGIN:STANDARD
TZOFFSETFROM:-0400
TZOFFSETTO:-0500
TZNAME:EST
DTSTART:20241103T060000
END:STANDARD
BEGIN:DAYLIGHT
TZOFFSETFROM:-0500
TZOFFSETTO:-0400
TZNAME:EDT
DTSTART:20250309T070000
END:DAYLIGHT
BEGIN:STANDARD
TZOFFSETFROM:-0400
TZOFFSETTO:-0500
TZNAME:EST
DTSTART:20251102T060000
END:STANDARD
BEGIN:DAYLIGHT
TZOFFSETFROM:-0500
TZOFFSETTO:-0400
TZNAME:EDT
DTSTART:20260308T070000
END:DAYLIGHT
BEGIN:STANDARD
TZOFFSETFROM:-0400
TZOFFSETTO:-0500
TZNAME:EST
DTSTART:20261101T060000
END:STANDARD
END:VTIMEZONE
BEGIN:VEVENT
DTSTART;TZID=America/Toronto:20251001T180000
DTEND;TZID=America/Toronto:20251001T200000
DTSTAMP:20260421T195213
CREATED:20250813T141927Z
LAST-MODIFIED:20250813T141927Z
UID:10018897-1759341600-1759348800@holyblossom.org
SUMMARY:Kol Nidre: First Adult Service
DESCRIPTION:Kol Nidre: First Adult Service\nWednesday\, October 2\, 6:00 pm \nEnter Yom Kippur with the moving Kol Nidre service\, an evening of powerful prayer\, reflection\, and timeless music. \nFor members joining us in sacred worship online\, please go to www.holyblossom.org/hhd and enter the password that was provided to you in your ticket package.
URL:https://holyblossom.org/event/kol-nidre-first-adult-service/
CATEGORIES:HBT Programs & Events,High Holy Days
ATTACH;FMTTYPE=image/jpeg:https://holyblossom.org/wp-content/uploads/2025/08/KN_5783-800x321-1.jpg
END:VEVENT
BEGIN:VEVENT
DTSTART;TZID=America/Toronto:20251001T190000
DTEND;TZID=America/Toronto:20251001T203000
DTSTAMP:20260421T195214
CREATED:20250813T142255Z
LAST-MODIFIED:20250813T142255Z
UID:10018899-1759345200-1759350600@holyblossom.org
SUMMARY:Kol Nidre: Family Service
DESCRIPTION:Kol Nidre: Family Service\nWednesday\, October 1\, 7:00 pm \nBegin Yom Kippur together at our Kol Nidre Family Service for a meaningful evening of prayer\, music\, and reflection for all ages. \n\nParent-Child take-a-break room will be available for this service
URL:https://holyblossom.org/event/kol-nidre-family-service/
CATEGORIES:HBT Programs & Events,High Holy Days
ATTACH;FMTTYPE=image/png:https://holyblossom.org/wp-content/uploads/2025/08/MzxC11018562.png
END:VEVENT
BEGIN:VEVENT
DTSTART;TZID=America/Toronto:20251001T204500
DTEND;TZID=America/Toronto:20251001T224500
DTSTAMP:20260421T195214
CREATED:20250813T142035Z
LAST-MODIFIED:20250813T142035Z
UID:10018898-1759351500-1759358700@holyblossom.org
SUMMARY:Kol Nidre: Second Adult Service
DESCRIPTION:Kol Nidre: Second Adult Service\nWednesday\, October 2\, 8:45 pm \nEnter Yom Kippur with the moving Kol Nidre service\, an evening of powerful prayer\, reflection\, and timeless music. \nFor members joining us in sacred worship online\, please go to www.holyblossom.org/hhd and enter the password that was provided to you in your ticket package.
URL:https://holyblossom.org/event/kol-nidre-second-adult-service/
CATEGORIES:HBT Programs & Events,High Holy Days
ATTACH;FMTTYPE=image/jpeg:https://holyblossom.org/wp-content/uploads/2025/08/KN_5783-800x321-1.jpg
END:VEVENT
END:VCALENDAR